BEGIN:VCALENDAR
VERSION:2.0
PRODID:-//МедПросвита - ECPv4.6.18//NONSGML v1.0//EN
CALSCALE:GREGORIAN
METHOD:PUBLISH
X-WR-CALNAME:МедПросвита
X-ORIGINAL-URL:https://medprosvita.com.ua
X-WR-CALDESC:Events for МедПросвита
BEGIN:VEVENT
DTSTART;TZID=UTC+3:20160526T090000
DTEND;TZID=UTC+3:20160627T180000
DTSTAMP:20260425T222144
CREATED:20160426T135904Z
LAST-MODIFIED:20180321T072719Z
UID:43480-1464253200-1467050400@medprosvita.com.ua
SUMMARY:Науковий симпозіум "Репродуктивна медицина в Україні - 25 років успіху"
DESCRIPTION:Науковий симпозіум з міжнародною участю «Репродуктивна медицина в Україні — 25 років успіху». \nХарківський національний медичний університет МОЗ України\, 60022\, м. Харків\, просп. Леніна\, 4. \nТел. (057) 705-07-09\, 707-73-80\, (050) 591-02-08. \nОрганізатор: Українська асоціація репродуктивної медицини \nУчасники: Україна\, Молдова\, Білорусь\, Казахстан\, Ізраїль\, Франція\, Бельгія\, Греція\, Англія\, США \n
URL:https://medprosvita.com.ua/event/naukoviy-simpozium-reproduktivna-meditsina-ukrayini/
LOCATION:просп. Леніна\, 4\, м. Харків
END:VEVENT
BEGIN:VEVENT
DTSTART;TZID=UTC+3:20160602T183000
DTEND;TZID=UTC+3:20160602T203000
DTSTAMP:20260425T222144
CREATED:20160517T133648Z
LAST-MODIFIED:20180323T070616Z
UID:44467-1464892200-1464899400@medprosvita.com.ua
SUMMARY:Вебинар УАБМ для практикующих эндокринологов
DESCRIPTION:Вебинар УАБМ — это практические рекомендации по оптимизации лечения заболеваний эндокринной системы. с помощью биорегуляционных препаратов компании Хель \nВебинар будет интересен: \n\nэндокринологам (взрослым и детским)\nсемейным врачам\nтерапевтам\nпедиатрам\nи другим специалистам\, встречающимся с эндокринными заболеваниями.\n\nВ рамках вебинара мы рассмотрим: \n\nактуальность оптимизации существующих схем лечения (клинических протоколов и др.) различных эндокринных нарушений и заболеваний\nхарактеристика комплексных биорегуляционных препаратов (КПБ) компании Хеель\, используемых для этого (их действие\, показания\, особенности применения\, принципы дозировки)\nпредставим обзор имеющихся клинических исследований\, проведенных в различных странах и методических материалов МОЗ Украины по применению КБП при эндокринных заболеваниях\nразберем возможности и практические рекомендации по включению в схемы лечения КБП при следующих эндокринных заболеваниях:\n\nгипотиреоз\, в т.ч. субклинический;\nузловой и эутиреоидный зоб\nсахарный диабет 2 типа\nосложнения сахарного диабета (микро- и макроангиопатии\, др.);\nметаболический синдром\nдругие ситуации\n\n\n\nВсе врачи\, прошедшие тестирование после вебинара получат: \n\nзапись и презентацию вебинара.\n\n
URL:https://medprosvita.com.ua/event/vebinar-uabm/
LOCATION:г. Киев\, Украина
END:VEVENT
END:VCALENDAR