BEGIN:VCALENDAR
VERSION:2.0
PRODID:-//МедПросвита - ECPv4.6.18//NONSGML v1.0//EN
CALSCALE:GREGORIAN
METHOD:PUBLISH
X-WR-CALNAME:МедПросвита
X-ORIGINAL-URL:https://medprosvita.com.ua
X-WR-CALDESC:Events for МедПросвита
BEGIN:VEVENT
DTSTART;VALUE=DATE:20160419
DTEND;VALUE=DATE:20160523
DTSTAMP:20260425T234942
CREATED:20160302T070033Z
LAST-MODIFIED:20180321T071844Z
UID:41277-1461027600-1463878799@medprosvita.com.ua
SUMMARY:Медицинский форум  «Инновации в медицине – здоровье нации»
DESCRIPTION:В Киеве с 19 по 21 апреля 2016 года состоится VII Международный медицинский форум  «Инновации в медицине – здоровье нации». Его программа основана на V юбилейном международном медицинском конгрессе «Внедрение современных достижений медицинской науки в практику здравоохранения Украины». \nМероприятие будет проходить под патронатом парламентского комитета по вопросам здравоохранения\, Кабмина\, Гослекслужбы\, киевской горгосадминистрации\, президента Украины. \nФорум будет проходить в Киеве по адресу ул. Салютная\, 2-Б. Программа мероприятия предусматривает проведение практических школ и мастер-классов\, организацию различных узкоотраслевых встреч\, сопровождение VIP-гостей и делегаций\, а также презентацию комплексной маркетинговой программы по привлечению целевой аудитории. Детальнее о программе форума здесь \n
URL:https://medprosvita.com.ua/event/meditsinskiy-forum-innovatsii-meditsine-zdorove-natsii/
LOCATION:Салютная 2б\, Киев\, Украина
END:VEVENT
BEGIN:VEVENT
DTSTART;TZID=UTC+3:20160419T090000
DTEND;TZID=UTC+3:20160521T180000
DTSTAMP:20260425T234942
CREATED:20160329T063935Z
LAST-MODIFIED:20180321T070804Z
UID:42278-1461056400-1463853600@medprosvita.com.ua
SUMMARY:Міжнародний конгрес "Впровадження сучасних досягнень медичної науки в практику охорони здоров'я України"
DESCRIPTION:V Міжнародний медичний конгрес «Впровадження сучасних досягнень медичної науки в практику охорони здоров’я України». \nОрганізатор: Національна академія медичних наук України. \n04050\, м. Київ\, вул. Мельникова\, 53. Тел. (044) 486-24-02 \n
URL:https://medprosvita.com.ua/event/mizhnarodniy-kongres-vprovadzhennya-suchasnih/
LOCATION:04050\, м. Київ\, вул. Мельникова\, 53\, Украина
END:VEVENT
BEGIN:VEVENT
DTSTART;TZID=UTC+3:20160518T090000
DTEND;TZID=UTC+3:20160520T180000
DTSTAMP:20260425T234942
CREATED:20160420T142403Z
LAST-MODIFIED:20180322T071634Z
UID:43415-1463562000-1463767200@medprosvita.com.ua
SUMMARY:III Міжнародний конгрес з гемостазіології\, анестезіології та інтенсивної терапії "Чорноморська перлина"
DESCRIPTION:ІІІ Міжнародний конгрес з гемостазіології\, анестезіології та інтенсивної терапії «Чорноморська перлина. Black sea pearl. Європейська школа анестезіології» \nОдеський національний медичний університет МОЗ України. \n65082\, м. Одеса\, Валіховський пров.\, 2.\, тел. (048) 750-01-04\, 716-56-36. \nУчасники з — України\, Франції\, Німеччини\, Молдови. \n  \n
URL:https://medprosvita.com.ua/event/iii-mizhnarodniy-kongres-gemostaziologiyi/
LOCATION:Валіховський пров.\, 2.\, м. Одеса\, 65082\, Украина
END:VEVENT
BEGIN:VEVENT
DTSTART;TZID=UTC+3:20160518T100000
DTEND;TZID=UTC+3:20160520T190000
DTSTAMP:20260425T234942
CREATED:20160419T152704Z
LAST-MODIFIED:20180321T064727Z
UID:43165-1463565600-1463770800@medprosvita.com.ua
SUMMARY:V Конгрес фахівців з ультразвукової діагностики
DESCRIPTION:ВГО «Українська асоціація фахівців з ультразвукової діагностики». \n04112\, м. Київ\, вул. Дорогожицька\, 9. Тел. (044) 440-02-48\, 249-91-34. \nНаціональна медична академія післядипломної освіти ім. П.Л. Шупика МОЗ України \nУчасники — Україна\, Білорусь\, Молдова\, Польща\, Німеччина\, Хорватія\, Франція \n
URL:https://medprosvita.com.ua/event/kongres-fahivtsiv-ultrazvukovoyi-diagnostiki-2/
LOCATION:м. Дніпропетровськ\, 04112\, Украина
END:VEVENT
BEGIN:VEVENT
DTSTART;TZID=UTC+3:20160520T140000
DTEND;TZID=UTC+3:20160520T190000
DTSTAMP:20260425T234942
CREATED:20160425T101539Z
LAST-MODIFIED:20180322T073043Z
UID:43741-1463752800-1463770800@medprosvita.com.ua
SUMMARY:Семінар "Стоматологічна практика - юридичні поради для стоматологічних клінік"
DESCRIPTION:«Стоматологічна практика – юридичні поради для стоматологічних клінік». Запрошуємо на семінар «Стоматологічна практика – юридичні поради для стоматологічних клінік»\, який відбудеться 20 травня 2016 р. у м. Києві. ПРОГРАМА СЕМІНАРУ:   \n\nОгляд новел законодавства в сфері ліцензування медичної практики. Нові ліцензійні умови провадження медичної практики.\nОрганізаційні та внутрішні нормативні документи\, необхідні для створення та діяльності медичного закладу стоматологічного профілю. Обмеження щодо використання назви «клініка».\nВнутрішні нормативні документи в медичному закладі. Нові вимоги до куточку споживача та вивіски. Вимоги до оформлення та особливості ознайомлення пацієнта з інформацією про заклад.\nМедична документація: як оформити та вести без шкоди для закладу.\nПрава і обов’язки пацієнта. Юридичне оформлення відносин з пацієнтами. Порядок та особливості оформлення медико-правових документів. Інформована згода на медичне втручання.\nПрава та обов’язки лікаря.\nПорядок та умови ознайомлення з медичною документацією (пацієнт\, представники).\nКонфіденційна інформація. Лікарська таємниця – як розкривати\, щоб не порушити закон. Надання медичної інформації на запити правоохоронних органів\, адвокатські запити.\nКонфлікти з пацієнтами — правові способи захисту. Алгоритм дій при пред’явленні пацієнтом претензій. «Проблемні» пацієнти – умови\, коли лікар може відмовитися від подальшого лікування пацієнта.\nЮридична відповідальність медичного закладу\, його керівника\, лікаря-стоматолога – якою вона може бути і за які дії наступає?\nВідшкодування матеріальної шкоди\, завданої ушкодженням здоров’ю пацієнта як добровільне відшкодування шкоди – особливості оформлення. \n\nПопередня реєстрація учасників обов’язкова за посиланням: http://goo.gl/forms/F5LKBXpWl4 \nДата та місце проведення: 20 травня 2016 року з 13:00 до 18:00 За детальною інформацією та для попередньої реєстрації звертайтесь: Юлія Савчук Тел. / Факс: (044) 238 00 03/02; Моб.: (050) 609 90 71 e-mail: julia.savchuk@babich-law.com \n
URL:https://medprosvita.com.ua/event/seminar-stomatologichna-praktika-yuridichni-poradi-dlya/
LOCATION:м. Київ\, Украина
ORGANIZER;CN="Unnamed%20Organizer":MAILTO:julia.savchuk@babich-law.com
END:VEVENT
END:VCALENDAR