BEGIN:VCALENDAR
VERSION:2.0
PRODID:-//МедПросвита - ECPv4.6.18//NONSGML v1.0//EN
CALSCALE:GREGORIAN
METHOD:PUBLISH
X-WR-CALNAME:МедПросвита
X-ORIGINAL-URL:https://medprosvita.com.ua
X-WR-CALDESC:Events for МедПросвита
BEGIN:VEVENT
DTSTART;VALUE=DATE:20160419
DTEND;VALUE=DATE:20160523
DTSTAMP:20260426T024336
CREATED:20160302T070033Z
LAST-MODIFIED:20180321T071844Z
UID:41277-1461027600-1463878799@medprosvita.com.ua
SUMMARY:Медицинский форум  «Инновации в медицине – здоровье нации»
DESCRIPTION:В Киеве с 19 по 21 апреля 2016 года состоится VII Международный медицинский форум  «Инновации в медицине – здоровье нации». Его программа основана на V юбилейном международном медицинском конгрессе «Внедрение современных достижений медицинской науки в практику здравоохранения Украины». \nМероприятие будет проходить под патронатом парламентского комитета по вопросам здравоохранения\, Кабмина\, Гослекслужбы\, киевской горгосадминистрации\, президента Украины. \nФорум будет проходить в Киеве по адресу ул. Салютная\, 2-Б. Программа мероприятия предусматривает проведение практических школ и мастер-классов\, организацию различных узкоотраслевых встреч\, сопровождение VIP-гостей и делегаций\, а также презентацию комплексной маркетинговой программы по привлечению целевой аудитории. Детальнее о программе форума здесь \n
URL:https://medprosvita.com.ua/event/meditsinskiy-forum-innovatsii-meditsine-zdorove-natsii/
LOCATION:Салютная 2б\, Киев\, Украина
END:VEVENT
BEGIN:VEVENT
DTSTART;TZID=UTC+3:20160419T090000
DTEND;TZID=UTC+3:20160521T180000
DTSTAMP:20260426T024336
CREATED:20160329T063935Z
LAST-MODIFIED:20180321T070804Z
UID:42278-1461056400-1463853600@medprosvita.com.ua
SUMMARY:Міжнародний конгрес "Впровадження сучасних досягнень медичної науки в практику охорони здоров'я України"
DESCRIPTION:V Міжнародний медичний конгрес «Впровадження сучасних досягнень медичної науки в практику охорони здоров’я України». \nОрганізатор: Національна академія медичних наук України. \n04050\, м. Київ\, вул. Мельникова\, 53. Тел. (044) 486-24-02 \n
URL:https://medprosvita.com.ua/event/mizhnarodniy-kongres-vprovadzhennya-suchasnih/
LOCATION:04050\, м. Київ\, вул. Мельникова\, 53\, Украина
END:VEVENT
BEGIN:VEVENT
DTSTART;TZID=UTC+3:20160419T090000
DTEND;TZID=UTC+3:20160420T180000
DTSTAMP:20260426T024336
CREATED:20160329T133437Z
LAST-MODIFIED:20180320T074151Z
UID:43048-1461056400-1461175200@medprosvita.com.ua
SUMMARY:Конференція "Формування діалогу клініцистів та спеціалістів клінічної лабораторної діагностики"
DESCRIPTION:Науково-практична конференція «Формування діалогу клініцистів та спеціалістів клінічної лабораторної діагностики». \nКількість уачсників: від 300 до 700. \nОрганізатори: \n\nНаціональна медична академія післядипломної освіти ім. П.Л. Шупика МОЗ України;\nГО «Всеукраїнська асоціація клінічної хімії та лабораторної медицин.\n\n04111\, м. Київ\, вул. Салютна\, 2-б. Тел. (044) 409-20-75. \n  \n
URL:https://medprosvita.com.ua/event/konferentsiya/
LOCATION:вул. Салютна\, 2-б\, м. Київ\, 04111\, Украина
END:VEVENT
BEGIN:VEVENT
DTSTART;TZID=UTC+3:20160420T193000
DTEND;TZID=UTC+3:20160420T210000
DTSTAMP:20260426T024336
CREATED:20160330T123953Z
LAST-MODIFIED:20180319T120152Z
UID:42558-1461180600-1461186000@medprosvita.com.ua
SUMMARY:Вебинар для практикующих акушеров-гинекологов
DESCRIPTION:Вебинар для практикующих акушеров-гинекологов «Практические рекомендации по оптимизации схем лечения в акушерской и гинекологической практике с помощью биорегуляционных препаратов компании Хеель». \nЛектор: Кононец Александр Павлович\, к.мед.н.\, акушер-гинеколог\, врач высшей категории\, ассистент Кафедры акушерства и гинекологии №1 НМАПО им. П.Л. Шупика \nВ рамках вебинара мы рассмотрим: \n\n\nКомплексные биорегуляционные препараты (КБП) компании «Хеель»\, используемые в акушерстве и гинекологии: их свойства\, действие\, показания\, особенности применения\, принципы дозировки\, преимущества\, выгоды;\nОбзор доказательных клинических исследований\, диссертаций\, методических материалов МОЗ Украины по их применению в акушерстве и гинекологии;\n\n\nКак их включать в стандартные протокольные схемы лечения с целью оптимизации терапии акушерской патологии; при дисгормональных нарушениях и  воспалительных заболеваниях женских половых органов. \n\nПрименение в акушерстве:\n\nРанний гестоз (токсикоз) беременных\nУгроза прерывания беременности в ранних сроках\nПлацентарная дисфункция\nЦитомегаловирусная (ЦМВ) инфекция (в т.ч. в период беременности)\nОбезболивание родов\n\n\nДисгормональные нарушения и заболевания ЖПО:\n\nКисты яичников\nМастопатия (фиброзно-кистозная)\nМиома/фибромиома матки\nКлимактерический синдром\nБесплодие неясного генеза\nЭндометриоз\nДисплазия шейки матки\n\n\nОстрые и хронические воспалительные заболевания ЖПО\n\nМастит (послеродовый)\nСальпингоофорит\nМетрит\, параметрит\nХронических воспалительных заболеваний внутренних половых органов\nУрогенитальные инфекции\n\n\n\nВебинар будет интересен: \n\nакушерам-гинекологам (всех специализаций\, в т.ч. гинекологи-эндокринологи\, репродуктологи и т.д.)\nурологам (с точки зрения совместного лечения партнеров при ЗППП)\nврачам других специальностей\, интересующихся вопросами лечения воспалительных заболеваний женских половых органов\, дисгормональных нарушений и заболеваний\, в т.ч. доброкачественных опухолей.\n\nВрачи\, успешно прошедшие тестирование (80% правильных ответов)\, получат по почте пакет информационно-методических материалов вебинара: \n\nсертификат о прохождении 3-х часового дистанционного курса обучение по теме Модуля 1;\nбесплатный комплект электронных материалов (презентацию\, запись вебинара\, статьи…);\nброшюру — методические рекомендации УАБМ по КБП и схемам лечения в акушерстве и гинекологии.\n\n
URL:https://medprosvita.com.ua/event/vebinar-dlya-praktikuyushhih-akusherov-ginekologov/
LOCATION:г. Киев
END:VEVENT
END:VCALENDAR