BEGIN:VCALENDAR
VERSION:2.0
PRODID:-//МедПросвита - ECPv4.6.18//NONSGML v1.0//EN
CALSCALE:GREGORIAN
METHOD:PUBLISH
X-WR-CALNAME:МедПросвита
X-ORIGINAL-URL:https://medprosvita.com.ua
X-WR-CALDESC:Events for МедПросвита
BEGIN:VEVENT
DTSTART;TZID=UTC+3:20160412T090000
DTEND;TZID=UTC+3:20160412T180000
DTSTAMP:20260426T010826
CREATED:20160329T083723Z
LAST-MODIFIED:20180323T071144Z
UID:42198-1460451600-1460484000@medprosvita.com.ua
SUMMARY:Очное занятие «Повышение эффективности и безопасности комплексной терапии заболеваний опорно-двигательного аппарата с помощью биорегуляционного подхода»
DESCRIPTION:Очное занятие Школа практикющего врача «Повышение эффективности и безопасности комплексной терапии заболеваний опорно-двигательного аппарата с помощью биорегуляционного подхода». Модуль 1: лекция. Запись: +38 (044) 454-75-03 \nuabminfo@gmail.com \n
URL:https://medprosvita.com.ua/event/ochnoe-zanyatie-povyishenie-effektivnosti-bezopasnosti/
LOCATION:Киев\, Украина
END:VEVENT
END:VCALENDAR