BEGIN:VCALENDAR
VERSION:2.0
PRODID:-//МедПросвита - ECPv4.6.18//NONSGML v1.0//EN
CALSCALE:GREGORIAN
METHOD:PUBLISH
X-WR-CALNAME:МедПросвита
X-ORIGINAL-URL:https://medprosvita.com.ua
X-WR-CALDESC:Events for МедПросвита
BEGIN:VEVENT
DTSTART;TZID=UTC+3:20160409T090000
DTEND;TZID=UTC+3:20160409T180000
DTSTAMP:20260426T010832
CREATED:20160329T082535Z
LAST-MODIFIED:20180326T073346Z
UID:42194-1460192400-1460224800@medprosvita.com.ua
SUMMARY:Очное занятие "Повышение эффективности и безопасности комплексной терапии заболеваний дыхательной системы с помощью биорегуляционного подхода»
DESCRIPTION:Очное занятие Школа практикующего врача «Повышение эффективности и безопасности комплексной терапии заболеваний дыхательной системы с помощью биорегуляционного подхода» . \nМодуль 1: лекция Модуль 2: практическое занятие по биопунктуре.  Запись: +38 (044) 454-75-03. \nuabminfo@gmail.com \n
URL:https://medprosvita.com.ua/event/zabolevaniya-dyhatelnoy-systemy/
LOCATION:Львов\, Украина
END:VEVENT
BEGIN:VEVENT
DTSTART;TZID=UTC+3:20160409T090000
DTEND;TZID=UTC+3:20160409T180000
DTSTAMP:20260426T010832
CREATED:20160329T083310Z
LAST-MODIFIED:20180326T064750Z
UID:42196-1460192400-1460224800@medprosvita.com.ua
SUMMARY:Практическое занятие "Комплексная биорегуляционная терапия дегенеративно-дистрофических заболеваний опорно-двигательного аппарата. Глубокая биопунктура"
DESCRIPTION:Практическое занятие «Комплексная биорегуляционная терапия дегенеративно-дистрофических заболеваний опорно-двигательного аппарата. Глубокая биопунктура».  \nНа занятии будут детально рассмотрены: \n\nАктуальность и распространенность ДДЗ\, дифференциальная диагностика;\nБиорегуляционный подход в коррекции основных вертеброгенных синдромов\, суставного болевого синдрома;\nКомплексные схемы коррекции дегенеративно-дистрофических заболеваний\, разбор клинических случаев;\nПрактическая часть. Диагностика. Зоны и точки проведения инъекций методом биопунктуры.\n\nКаждый врач получит возможность научиться проводить метод биопунктуры самостоятельно. По окончанию курса выдается сертификат. \nЗанятие предназначено для врачей общей практики\,педиатров\, терапевтов\, реабилитологов\, узких специалистов\, желающих выйти за рамки специальности. (время проведения 10-00 — 14-00). Запись: +38 (044) 454-75-11 \nov.bioregulmed@cascade-medical.com.ua \n
URL:https://medprosvita.com.ua/event/prakticheskoe-zanyatie-kompleksnaya/
LOCATION:Киев
END:VEVENT
END:VCALENDAR