BEGIN:VCALENDAR
VERSION:2.0
PRODID:-//МедПросвита - ECPv4.6.18//NONSGML v1.0//EN
CALSCALE:GREGORIAN
METHOD:PUBLISH
X-WR-CALNAME:МедПросвита
X-ORIGINAL-URL:https://medprosvita.com.ua
X-WR-CALDESC:Events for МедПросвита
BEGIN:VEVENT
DTSTART;TZID=UTC+3:20160331T090000
DTEND;TZID=UTC+3:20160401T180000
DTSTAMP:20260426T010659
CREATED:20160205T125401Z
LAST-MODIFIED:20180328T060742Z
UID:39839-1459414800-1459533600@medprosvita.com.ua
SUMMARY:З'їзд фахівців медицини невідкладних станів та медицини катастроф
DESCRIPTION:З’їзд спеціалістів медицини невідкладних станів та медицини катастроф за участю представників України\, Молдови\, Канади\, Грузії (всього 400 учасників). \nОрганізатор:  \nНаціональна медична академія післядипломної освіти ім. П.Л. Шупика МОЗ України. \nМісце проведення: 04112\, м. Київ\, вул. Дорогожицька\, 9. \nТел. (044) 456-80-50. \nПроводиться за участю наступних організацій: \n\nУкраїнський науково-практичний центр екстреної медичної допомоги та медицини катастроф МОЗ України.\nВГО «Асоціація працівників швидкої невідкладної медичної допомоги та медицини катастроф».\nКиївська міська клінічна лікарня швидкої допомоги.\nКиївська міська станція екстреної медичної допомоги\n\n
URL:https://medprosvita.com.ua/event/yizd-fahivtsiv-meditsini-nevidkladnih-staniv-meditsini/
LOCATION:вул. Дорогожицька\, 9\, Київ\, 04112\, Украина
END:VEVENT
BEGIN:VEVENT
DTSTART;TZID=UTC+3:20160331T090000
DTEND;TZID=UTC+3:20160401T180000
DTSTAMP:20260426T010659
CREATED:20160318T115444Z
LAST-MODIFIED:20180327T062454Z
UID:41848-1459414800-1459533600@medprosvita.com.ua
SUMMARY:З'їзд з міжнародною участю "Людина та ліки - Україна"
DESCRIPTION:З’їзд з міжнародною участю  «Людина та ліки — Україна». \nКількість учасників: 1500-2500 від — України\, Білорусі\, Ізраїлю\, Німеччини\, США. \nОрганізатор: ГС «Українська асоціація міждисциплінарної медицини». \n01034\, м. Київ\, вул. Володимирська\, 45\, оф. 101. \nТел./факс (044) 287-07-20 \n
URL:https://medprosvita.com.ua/event/yizd-lyudina-liki-ukrayina/
LOCATION:вул. Дорогожицька\, 9\, Київ\, 04112\, Украина
END:VEVENT
END:VCALENDAR