BEGIN:VCALENDAR
VERSION:2.0
PRODID:-//МедПросвита - ECPv4.6.18//NONSGML v1.0//EN
CALSCALE:GREGORIAN
METHOD:PUBLISH
X-WR-CALNAME:МедПросвита
X-ORIGINAL-URL:https://medprosvita.com.ua
X-WR-CALDESC:Events for МедПросвита
BEGIN:VEVENT
DTSTART;TZID=UTC+3:20160323T090000
DTEND;TZID=UTC+3:20160325T180000
DTSTAMP:20260426T025001
CREATED:20160120T114759Z
LAST-MODIFIED:20180328T061438Z
UID:41845-1458723600-1458928800@medprosvita.com.ua
SUMMARY:IV Національний конгрес "Радіологія в Україні"
DESCRIPTION:IV Національний конгрес з міжнародною участю «Радіологія в Україні». \nУчасники — Україна\, Молдова\, Туреччина\, Німеччина\, Італія. \nОрганізатор: Національна медична академія післядипломної освіти ім. П.Л. Шупика МОЗ України\, Асоціація радіологів України \n04112\, м. Київ\, вул. Дорогожицька\, 9. \n  \n  \n
URL:https://medprosvita.com.ua/event/natsionalniy-kongres-radiologoya-ukrayini/
LOCATION:вул. Грушевського\, 7\, Киев\, Украина
END:VEVENT
BEGIN:VEVENT
DTSTART;TZID=UTC+3:20160323T090000
DTEND;TZID=UTC+3:20160325T180000
DTSTAMP:20260426T025001
CREATED:20160121T091303Z
LAST-MODIFIED:20180328T065739Z
UID:41512-1458723600-1458928800@medprosvita.com.ua
SUMMARY:Медицинский специализированный форум 2016
DESCRIPTION:Медицинский специализированный форум: новые технологии\, последние тенденции\, инновации. Основные акценты: «Частная медицина»\, «Синергия в решении проблем пациента»\, «Узкая специализация». \nТематические разделы:  \n\nПластическая хирургия\nРепродуктивная медицина\nДиетология\nДерматовенерология\nМенеджмент частных клиник и управление аптеками и частными сетями.\nОртопедия и травматология.\nЛабораторная диагностика.\nАллергология.\nОнкология.\nРеабилитация.\n\n  \n  \n
URL:https://medprosvita.com.ua/event/meditsinskiy-spetsializirovannyiy-forum/
LOCATION:г. Киев\, Украина
END:VEVENT
END:VCALENDAR