BEGIN:VCALENDAR
VERSION:2.0
PRODID:-//МедПросвита - ECPv4.6.18//NONSGML v1.0//EN
CALSCALE:GREGORIAN
METHOD:PUBLISH
X-WR-CALNAME:МедПросвита
X-ORIGINAL-URL:https://medprosvita.com.ua
X-WR-CALDESC:Events for МедПросвита
BEGIN:VEVENT
DTSTART;TZID=UTC+3:20160318T090000
DTEND;TZID=UTC+3:20160318T180000
DTSTAMP:20260426T024806
CREATED:20160120T084557Z
LAST-MODIFIED:20180328T070245Z
UID:41777-1458291600-1458324000@medprosvita.com.ua
SUMMARY:Конференція "Інновації діагностики та лікування хворих на злоякісні новоутворення"
DESCRIPTION:Науково-практична конференція «Інновації діагностики та лікування хворих на злоякісні новоутворення»\, розрахована на молодих вчених. \n
URL:https://medprosvita.com.ua/event/konferentsiya-innovatsiyi-diagnostiki-likuvannya/
LOCATION:вул. Ломоносова 33/43\, м. Київ\, 03022\, Украина
END:VEVENT
BEGIN:VEVENT
DTSTART;TZID=UTC+3:20160318T090000
DTEND;TZID=UTC+3:20160318T180000
DTSTAMP:20260426T024806
CREATED:20160121T090136Z
LAST-MODIFIED:20180329T054508Z
UID:39971-1458291600-1458324000@medprosvita.com.ua
SUMMARY:Щорічна конференція "Медичний заклад: організація та управління"
DESCRIPTION:18 березня 2016 року в Києві відбудеться 5 щорічна конференція «Медичний заклад: організація та управління» на загальну тему «ЯКІСТЬ В МЕДИЦИНІ ЯК СТРАТЕГІЯ» \nПрограма заходу\, який відбувається вже вп’яте\, охоплює максимальну кількість можливих питань стосовно процесу створення\, організації та управління медичним закладом. \nГоловною метою конференції є висвітлення актуальних питань\, що виникають під час управління медичними закладами та під час провадження медичного бізнесу в цілому. \n
URL:https://medprosvita.com.ua/event/shhorichna-konferentsiya-medichniy-zaklad/
LOCATION:вул. Шолуденко\, 3\, конференц-зал "Панорама"\, Київ\, Украина
END:VEVENT
END:VCALENDAR