BEGIN:VCALENDAR
VERSION:2.0
PRODID:-//МедПросвита - ECPv4.6.18//NONSGML v1.0//EN
CALSCALE:GREGORIAN
METHOD:PUBLISH
X-WR-CALNAME:МедПросвита
X-ORIGINAL-URL:https://medprosvita.com.ua
X-WR-CALDESC:Events for МедПросвита
BEGIN:VEVENT
DTSTART;TZID=UTC+3:20160324T090000
DTEND;TZID=UTC+3:20160326T180000
DTSTAMP:20260421T094549
CREATED:20160122T125402Z
LAST-MODIFIED:20180328T062025Z
UID:38534-1458810000-1459015200@medprosvita.com.ua
SUMMARY:Наукова конференція "Акутальні питання клінічної анатомії та оперативноії хірургії"
DESCRIPTION:Науково-практична конференція з міжнародною участю\, присвячена 75-річчю від дня народження проф. В.І. Проняєва «Актуальні питання клінічної анатомії та оперативної хірургії» \n
URL:https://medprosvita.com.ua/event/naukova-konferentsiya-akutalni-pitannya-klinichnoyi/
LOCATION:вулиця Ризька\, 1\, Чернівці\, 58000\, Украина
ORGANIZER;CN="Unnamed%20Organizer":MAILTO:top_anatomy@bsmu.edu.ua
END:VEVENT
END:VCALENDAR