BEGIN:VCALENDAR
VERSION:2.0
PRODID:-//МедПросвита - ECPv4.6.18//NONSGML v1.0//EN
CALSCALE:GREGORIAN
METHOD:PUBLISH
X-WR-CALNAME:МедПросвита
X-ORIGINAL-URL:https://medprosvita.com.ua
X-WR-CALDESC:Events for МедПросвита
BEGIN:VEVENT
DTSTART;TZID=UTC+3:20160419T090000
DTEND;TZID=UTC+3:20160420T180000
DTSTAMP:20260426T024848
CREATED:20160329T133437Z
LAST-MODIFIED:20180320T074151Z
UID:43048-1461056400-1461175200@medprosvita.com.ua
SUMMARY:Конференція "Формування діалогу клініцистів та спеціалістів клінічної лабораторної діагностики"
DESCRIPTION:Науково-практична конференція «Формування діалогу клініцистів та спеціалістів клінічної лабораторної діагностики». \nКількість уачсників: від 300 до 700. \nОрганізатори: \n\nНаціональна медична академія післядипломної освіти ім. П.Л. Шупика МОЗ України;\nГО «Всеукраїнська асоціація клінічної хімії та лабораторної медицин.\n\n04111\, м. Київ\, вул. Салютна\, 2-б. Тел. (044) 409-20-75. \n  \n
URL:https://medprosvita.com.ua/event/konferentsiya/
LOCATION:вул. Салютна\, 2-б\, м. Київ\, 04111\, Украина
END:VEVENT
END:VCALENDAR